BEGIN:VCALENDAR
VERSION:2.0
PRODID:-//82.223.102.126//NONSGML kigkonsult.se iCalcreator 2.20//
CALSCALE:GREGORIAN
METHOD:PUBLISH
X-WR-TIMEZONE:Europe/Madrid
BEGIN:VEVENT
UID:event274@Villa de Rota 
DTSTAMP:20260424T074409Z
CATEGORIES:Fiestas Rota\, Carnaval
DESCRIPTION:Premios a los mejores disfraces y actuación de la orquesta Blue
  Sound\nCategoría: Fiestas Rota\, Carnaval\nEnlace: https://www.villaderot
 a.com/index.php?option=com_jem&view=event&id=274:premios-a-los-mejores-dis
 fraces-y-actuacion-de-la-orquesta-blue-sound&Itemid=566\n
DTSTART;TZID=Europe/Madrid:20260222T210000
DTEND;TZID=Europe/Madrid:20260222T210000
LOCATION:Avda. San Juan de Puerto Rico\,Avda. San Juan de Puerto Rico\,1152
 0 Rota
SUMMARY:Premios a los mejores disfraces y actuación de la orquesta Blue Sou
 nd
URL:https://www.villaderota.com/index.php?option=com_jem&view=event&id=274:
 premios-a-los-mejores-disfraces-y-actuacion-de-la-orquesta-blue-sound&Item
 id=566
END:VEVENT
END:VCALENDAR