BEGIN:VCALENDAR
VERSION:2.0
PRODID:-//82.223.102.126//NONSGML kigkonsult.se iCalcreator 2.20//
CALSCALE:GREGORIAN
METHOD:PUBLISH
X-WR-TIMEZONE:Europe/Madrid
BEGIN:VEVENT
UID:event271@Villa de Rota 
DTSTAMP:20260424T152933Z
CATEGORIES:Fiestas Rota\, Carnaval\, Actividades para Familias
DESCRIPTION: Batalla de Coplas \nCategoría: Fiestas Rota\, Carnaval\, Activ
 idades para Familias\nEnlace: https://www.villaderota.com/index.php?option
 =com_jem&view=event&id=271:batalla-de-coplas&Itemid=566\n
DTSTART;TZID=Europe/Madrid:20260221T170000
DTEND;TZID=Europe/Madrid:20260221T170000
LOCATION:Plaza San Roque\,Plaza San Roque\,11520 Rota
SUMMARY: Batalla de Coplas 
URL:https://www.villaderota.com/index.php?option=com_jem&view=event&id=271:
 batalla-de-coplas&Itemid=566
END:VEVENT
END:VCALENDAR