BEGIN:VCALENDAR
VERSION:2.0
PRODID:-//82.223.102.126//NONSGML kigkonsult.se iCalcreator 2.20//
CALSCALE:GREGORIAN
METHOD:PUBLISH
X-WR-TIMEZONE:Europe/Madrid
BEGIN:VEVENT
UID:event269@Villa de Rota 
DTSTAMP:20260425T191615Z
CATEGORIES:Fiestas Rota\, Carnaval\, Música
DESCRIPTION:Actuación de “La chirimurga”\nCategoría: Fiestas Rota\, Carnava
 l\, Música\nEnlace: https://www.villaderota.com/index.php?option=com_jem&v
 iew=event&id=269:actuacion-de-la-chirimurga&Itemid=566\n
DTSTART;TZID=Europe/Madrid:20260220T210000
DTEND;TZID=Europe/Madrid:20260220T210000
LOCATION:Plaza San Roque\,Plaza San Roque\,11520 Rota
SUMMARY:Actuación de “La chirimurga”
URL:https://www.villaderota.com/index.php?option=com_jem&view=event&id=269:
 actuacion-de-la-chirimurga&Itemid=566
END:VEVENT
END:VCALENDAR