BEGIN:VCALENDAR
VERSION:2.0
PRODID:-//82.223.102.126//NONSGML kigkonsult.se iCalcreator 2.20//
CALSCALE:GREGORIAN
METHOD:PUBLISH
X-WR-TIMEZONE:Europe/Madrid
BEGIN:VEVENT
UID:event254@Villa de Rota 
DTSTAMP:20260425T191615Z
CATEGORIES:Fiestas Rota\, Carnaval
DESCRIPTION:Coronación y XI Pregón Infantil de Carnaval\nCategoría: Fiestas
  Rota\, Carnaval\nEnlace: https://www.villaderota.com/index.php?option=com
 _jem&view=event&id=254:coronacion-y-xi-pregon-infantil-de-carnaval&Itemid=
 566\n
DTSTART;TZID=Europe/Madrid:20260215T123000
DTEND;TZID=Europe/Madrid:20260215T123000
LOCATION:Avda. San Juan de Puerto Rico\,Avda. San Juan de Puerto Rico\,1152
 0 Rota
SUMMARY:Coronación y XI Pregón Infantil de Carnaval
URL:https://www.villaderota.com/index.php?option=com_jem&view=event&id=254:
 coronacion-y-xi-pregon-infantil-de-carnaval&Itemid=566
END:VEVENT
END:VCALENDAR